BEGIN:VCALENDAR
VERSION:2.0
PRODID:-//Novanta - ECPv6.15.14//NONSGML v1.0//EN
CALSCALE:GREGORIAN
METHOD:PUBLISH
X-WR-CALNAME:Novanta
X-ORIGINAL-URL:https://novanta90.com
X-WR-CALDESC:Events for Novanta
REFRESH-INTERVAL;VALUE=DURATION:PT1H
X-Robots-Tag:noindex
X-PUBLISHED-TTL:PT1H
BEGIN:VTIMEZONE
TZID:Europe/Rome
BEGIN:DAYLIGHT
TZOFFSETFROM:+0100
TZOFFSETTO:+0200
TZNAME:CEST
DTSTART:20230326T010000
END:DAYLIGHT
BEGIN:STANDARD
TZOFFSETFROM:+0200
TZOFFSETTO:+0100
TZNAME:CET
DTSTART:20231029T010000
END:STANDARD
BEGIN:DAYLIGHT
TZOFFSETFROM:+0100
TZOFFSETTO:+0200
TZNAME:CEST
DTSTART:20240331T010000
END:DAYLIGHT
BEGIN:STANDARD
TZOFFSETFROM:+0200
TZOFFSETTO:+0100
TZNAME:CET
DTSTART:20241027T010000
END:STANDARD
BEGIN:DAYLIGHT
TZOFFSETFROM:+0100
TZOFFSETTO:+0200
TZNAME:CEST
DTSTART:20250330T010000
END:DAYLIGHT
BEGIN:STANDARD
TZOFFSETFROM:+0200
TZOFFSETTO:+0100
TZNAME:CET
DTSTART:20251026T010000
END:STANDARD
END:VTIMEZONE
BEGIN:VEVENT
DTSTART;VALUE=DATE:20240903
DTEND;VALUE=DATE:20240907
DTSTAMP:20260421T055803
CREATED:20240722T132712Z
LAST-MODIFIED:20240903T163610Z
UID:1490-1725321600-1725667199@novanta90.com
SUMMARY:Wondrous Wedding
DESCRIPTION:We’re thrilled to announce that right now\, Novanta is buzzing with love\, laughter\, and a fabulous wedding celebration!  If you haven’t received an invite\, don’t worry—it just means you’ll have to wait until the next epic event to join the fun. For now\, please excuse us as we shower the happy couple with all our attention\, love\, and perhaps one too many glasses of Tuscan wine. \n____ \nWeddings in the valley\nAt Novanta\, your wedding is more than just a day—it’s a full-on adventure\, where you and your loved ones get to enjoy a once-in-a-lifetime experience. From dining al fresco under the stars to dancing the night away without a care in the world\, we make sure your big day is as unforgettable as the love you’re celebrating.  \nCurious to learn more? Check out our Weddings at Novanta page for all the dreamy details!
URL:https://novanta90.com/novanta-event/wondrous-wedding/
LOCATION:Novanta 90 – Borgo di Gello\, Borgo di Gello\, Bibbiena\, Arezzo\, 52011\, Italy
ATTACH;FMTTYPE=image/jpeg:https://novanta90.com/wp-content/uploads/2024/07/Novanta-Tuscany-Events-Wedding-1.jpg
END:VEVENT
END:VCALENDAR